BEGIN:VCALENDAR
VERSION:2.0
PRODID:-//ChamberMaster//Event Calendar 2.0//EN
METHOD:PUBLISH
X-PUBLISHED-TTL:P3D
REFRESH-INTERVAL:P3D
CALSCALE:GREGORIAN
BEGIN:VEVENT
DTSTART:20260530T150000Z
DTEND:20260530T190000Z
X-MICROSOFT-CDO-ALLDAYEVENT:FALSE
SUMMARY:American Legion Brat Stand at Viking BP
DESCRIPTION:American Legion Brat Stand. Stop for a delicious meal and help raise money for our Veterans - a tasty way to help!\n\n\n\nYou'll easily find them on the corner in the Viking BP parking lot\, 10 Viking Dr\, Reedsburg.\n\n\n\nVisit American Legion Post 350 on Facebook:
X-ALT-DESC;FMTTYPE=text/html:<br />\n<span style="font-size:14px\;"><span style="font-family:arial\,sans-serif\;">American Legion Brat Stand. Stop for a delicious meal and help raise money for our Veterans - a tasty way to help!<br />\n<br />\nYou&#39\;ll easily find them on the corner in the Viking BP parking lot\, 10 Viking Dr\, Reedsburg.<br />\n<br />\nVisit American Legion Post 350 on Facebook:</span></span><br />\n<br />\n&nbsp\;
LOCATION:Viking Express Mart-BP 10 Viking Dr Reedsburg.
UID:e.800.33671
SEQUENCE:3
DTSTAMP:20260423T154128Z
URL:https://www.reedsburg.org/events/details/american-legion-brat-stand-at-viking-bp-33671
END:VEVENT

END:VCALENDAR
