BEGIN:VCALENDAR
VERSION:2.0
PRODID:-//ChamberMaster//Event Calendar 2.0//EN
METHOD:PUBLISH
X-PUBLISHED-TTL:P3D
REFRESH-INTERVAL:P3D
CALSCALE:GREGORIAN
BEGIN:VEVENT
DTSTART:20260526T220000Z
DTEND:20260527T010000Z
X-MICROSOFT-CDO-ALLDAYEVENT:FALSE
SUMMARY:Culver's Car Show
DESCRIPTION:The Reedsburg Culver's will start its monthly car show! This event has blossomed into something relaxing and fun for all ages. Our car shows are the last Tuesday of every month\, April thru September from 5pm to 8pm. Help us with our dreams of keeping our lot full of those classics!\n\n\n\nAs always\, each driver will receive free custard for bringing in their ride! So it's time to start dusting off those beautiful machines and come hang out with us at Culver's! Mark your calendars!
X-ALT-DESC;FMTTYPE=text/html:<br />\n<span style="font-family:comic sans ms\;"><span style="font-size:14px\;">The Reedsburg Culver&rsquo\;s will start its monthly car show! This event has blossomed into something relaxing and fun for all ages. Our car shows are the last Tuesday of every month\, April thru September from 5pm to 8pm. Help us with our dreams of keeping our lot full of those classics!<br />\n<br />\nAs always\, each driver will receive free custard for bringing in their ride! So it&rsquo\;s time to start dusting off those beautiful machines and come hang out with us at Culver&rsquo\;s! Mark your calendars!</span></span><br />\n&nbsp\;
LOCATION:Culver's - Reedsburg 2075 E Main St Reedsburg\, WI
UID:e.800.33684
SEQUENCE:3
DTSTAMP:20260419T130706Z
URL:https://www.reedsburg.org/events/details/culver-s-car-show-05-26-2026-33684
END:VEVENT

END:VCALENDAR
